BEGIN:VCALENDAR
VERSION:2.0
PRODID:-//Starbuck Chamber of Commerce - ECPv6.15.20//NONSGML v1.0//EN
CALSCALE:GREGORIAN
METHOD:PUBLISH
X-ORIGINAL-URL:https://starbuckmn.org
X-WR-CALDESC:Events for Starbuck Chamber of Commerce
REFRESH-INTERVAL;VALUE=DURATION:PT1H
X-Robots-Tag:noindex
X-PUBLISHED-TTL:PT1H
BEGIN:VTIMEZONE
TZID:UTC
BEGIN:STANDARD
TZOFFSETFROM:+0000
TZOFFSETTO:+0000
TZNAME:UTC
DTSTART:20220101T000000
END:STANDARD
END:VTIMEZONE
BEGIN:VEVENT
DTSTART;TZID=UTC:20230806T080000
DTEND;TZID=UTC:20230806T170000
DTSTAMP:20260422T052415
CREATED:20230301T060009Z
LAST-MODIFIED:20230424T222847Z
UID:2053-1691308800-1691341200@starbuckmn.org
SUMMARY:Vintage and Artisan Market
DESCRIPTION:2023 Starbuck Vintage & Artisan Market\nThe Starbuck Area Chamber of Commerce is proud to sponsor the 2nd Annual Starbuck Vintage & Artisan Market on August 4 and 5\, 2023! \nDo you have repurposed furniture\, vintage clothing or antiques to sell? Are you an artist or craftsperson who creates fine art\, crafts or other hand-made products? Sign up to participate in our outdoor Vintage & Artisan Market on Friday\, August 5 and Saturday\, August 6. Market hours are Friday from 4 to 8 p.m. and Saturday from 8 a.m. to 5 p.m. You can set up anytime Friday afternoon. We are also looking for food truck vendors—please contact us about a separate registration and pricing. \nThe Market will take place on a busy summer weekend in Starbuck on the South side of Starbuck City Park. On Saturday\, the Lake Minnewaska Classic Car Show runs from 9 a.m. to 2 p.m. There will also be a Farmers’ Market nearby featuring not only local farm produce and flowers\, but wines\, beers and other unique foods by our local businesses! Plus\, the Park will be bustling with family reunions and people venturing to the nearby city beach. \nThe fee is $50 (to be paid in advance) for each 10-foot x 10-foot space. Your cancelled check will serve as verification of your reserved space. Please note that canopies measuring more than 10 feet will require two spaces. We will provide an 8-foot table and 2 folding chairs\, if requested with your registration. Canopies\, tents and/or rain protection\, if desired\, will be your responsibility. Vendor spaces will be assigned by the Chamber committee. \nThe registration deadline is July 14\, 2023. There will be no refunds for cancellation. \nVendors and shoppers will enjoy gorgeous views and breezes from Lake Minnewaska from the Market. The tree-lined City Park also offers shoppers shady spots to sit and enjoy a snack or lunch from our food trucks or Starbuck’s award-winning DQ! \nIf you have any questions about the Vintage & Antique Market\, please contact the Chamber Office at 320-239-4220 or e-mail starbuckchamber@gmail.com. \nPlease register to participate by returning the form below with your advance payment to: \nStarbuck Area Chamber of Commerce\nAttn: Vintage & Artisan Market Vendors\nP.O. Box 234\nStarbuck\, MN 56381 \n  \n  \nVendor Registration \n  \n  \nPlease enclose full amount of vendor fee and tax permit ID number. \nName________________________________________________________________________ \nTelephone #_____________________________________ \nBusiness Name__________________________________________________________________ \nAddress_______________________________________________________________________ \n_______________________________________________________________________ \nDescription of Items to be Sold _____________________________________________________________________________ \nE-mail Address ________________________________________________________________ \n(We will e-mail your space number ahead of time) \nDo you plan to use a canopy? (Please circle) Yes No \nHow many spaces do you need? (Please circle) 1 2 3 \nCheck if you need: an 8-foot table ______             2 folding chairs ______ \nI have read the above rules and regulations. I understand that the Starbuck Area Chamber of Commerce\, the City of Starbuck\, board members\, or any other entity involved with the Starbuck Vintage & Artisan Market will not be responsible for loss or accidents. \nSignature_____________________________________________ \nTax Permit ID #_________________________________________ \nTotal amount enclosed: $________ (Check payable to “Starbuck Area Chamber of Commerce”)
URL:https://starbuckmn.org/event/annual-events-vintage-artisan-market/
LOCATION:Starbuck Lakeshore City Park\, Starbuck\, MN\, 56381\, United States
CATEGORIES:Event
ATTACH;FMTTYPE=image/jpeg:https://starbuckmn.org/wp-content/uploads/2022/04/Vintage-and-Artisan-Market-jpeg.jpg
ORGANIZER;CN="Starbuck Area Chamber of Commerce":MAILTO:starbuckchamber@gmail.com
END:VEVENT
END:VCALENDAR